BEGIN:VCALENDAR
PRODID:NingEventWidget-v1
VERSION:2.0
METHOD:PUBLISH
BEGIN:VTIMEZONE
TZID:America/Atikokan
X-LIC-LOCATION:America/Atikokan
BEGIN:STANDARD
TZOFFSETFROM:-0500
TZOFFSETTO:-0500
TZNAME:EST
DTSTART:19700101T000000
END:STANDARD
END:VTIMEZONE
BEGIN:VEVENT
UID:2477478:Event:108660
DTSTAMP:20260423T141928Z
SUMMARY:Mason City, IA Civil War Reenactment
DESCRIPTION:School day on Friday. performances on Saturday and Sunday.
  Encampment and battles in the afternoon on Saturday and Sunday.\n\nFo
 r more information visit https://minstrelbanjo.ning.com/events/mason-c
 ity-ia-civil-war-reenactment
DTSTART;TZID=America/Atikokan:20140905T090000
DTEND;TZID=America/Atikokan:20140907T150000
CATEGORIES:reenactment
LOCATION:City Park
WEBSITE:
URL:
CONTACT:
ORGANIZER;CN="Songs of the Civil War-Bob Welch":https://minstrelbanjo.
 ning.com/profile/BobWelch
ATTACH;FMTTYPE="image/jpeg":http://storage.ning.com/topology/rest/1.0/
 file/get/3163654990?profile=original
ATTENDEE;ROLE=REQ-PARTICIPANT;PARTSTAT=ACCEPTED;RSVP=TRUE;CN="Songs of
  the Civil War-Bob Welch":https://minstrelbanjo.ning.com/profile/BobWe
 lch
END:VEVENT
END:VCALENDAR
