BEGIN:VCALENDAR
PRODID:NingEventWidget-v1
VERSION:2.0
METHOD:PUBLISH
BEGIN:VTIMEZONE
TZID:America/Atikokan
X-LIC-LOCATION:America/Atikokan
BEGIN:STANDARD
TZOFFSETFROM:-0500
TZOFFSETTO:-0500
TZNAME:EST
DTSTART:19700101T000000
END:STANDARD
END:VTIMEZONE
BEGIN:VEVENT
UID:2477478:Event:91570
DTSTAMP:20260421T153110Z
SUMMARY:Black Creek Fiddlers' Reunion
DESCRIPTION:This is the 14th year we've been putting on this small old
 -time music campout gathering near to Albany, New York.  If you are i
 n the area, this event could offer the possibility of a 'mini merry mi
 nstrel meetup'!\nAnywhere between 100-200 old-time musicians gather to
  camp and play for the weekend...potluck in the old Dutch barn on Satu
 rday evening, very friendly. \nThough the main focus is old-time musi
 c, as you can see from the photos of past years, jamming takes various
  forms, and minstrel players are very welcome to join the fun!  I'll 
 be bringing my Bell Stichter minstrel banjo, and maybe a tambourine or
  a set of bones tucked in my sack too.  Hope to see a few minstrel fr
 iends there!\n\nFor more information visit https://minstrelbanjo.ning.
 com/events/black-creek-fiddlers-reunion
DTSTART;TZID=America/Atikokan:20130524T130000
DTEND;TZID=America/Atikokan:20130527T130000
CATEGORIES:old-time, camp-out, gathering
LOCATION:Altamont, NY  ...at Altamont Fairgrounds (near Albany NY)
WEBSITE:http://www.oldsongs.org/blackcreek/index.shtml
URL:http://www.oldsongs.org/blackcreek/index.shtml
CONTACT:see the Black Creek website above or contact me on this site
ORGANIZER;CN=Strumelia:https://minstrelbanjo.ning.com/profile/Strumeli
 a
ATTACH;FMTTYPE="image/jpeg":http://storage.ning.com/topology/rest/1.0/
 file/get/3163670353?profile=original
ATTENDEE;ROLE=REQ-PARTICIPANT;PARTSTAT=ACCEPTED;RSVP=TRUE;CN="Paul Dra
 per":https://minstrelbanjo.ning.com/profile/PaulDraper
ATTENDEE;ROLE=REQ-PARTICIPANT;PARTSTAT=ACCEPTED;RSVP=TRUE;CN=Strumelia
 :https://minstrelbanjo.ning.com/profile/Strumelia
END:VEVENT
END:VCALENDAR
